BEGIN:VCALENDAR
VERSION:2.0
PRODID:-//ESU - ECPv6.15.17.1//NONSGML v1.0//EN
CALSCALE:GREGORIAN
METHOD:PUBLISH
X-WR-CALNAME:ESU
X-ORIGINAL-URL:https://staging.esu.org
X-WR-CALDESC:Events for ESU
REFRESH-INTERVAL;VALUE=DURATION:PT1H
X-Robots-Tag:noindex
X-PUBLISHED-TTL:PT1H
BEGIN:VTIMEZONE
TZID:Europe/London
BEGIN:DAYLIGHT
TZOFFSETFROM:+0000
TZOFFSETTO:+0100
TZNAME:BST
DTSTART:20210328T010000
END:DAYLIGHT
BEGIN:STANDARD
TZOFFSETFROM:+0100
TZOFFSETTO:+0000
TZNAME:GMT
DTSTART:20211031T010000
END:STANDARD
BEGIN:DAYLIGHT
TZOFFSETFROM:+0000
TZOFFSETTO:+0100
TZNAME:BST
DTSTART:20220327T010000
END:DAYLIGHT
BEGIN:STANDARD
TZOFFSETFROM:+0100
TZOFFSETTO:+0000
TZNAME:GMT
DTSTART:20221030T010000
END:STANDARD
BEGIN:DAYLIGHT
TZOFFSETFROM:+0000
TZOFFSETTO:+0100
TZNAME:BST
DTSTART:20230326T010000
END:DAYLIGHT
BEGIN:STANDARD
TZOFFSETFROM:+0100
TZOFFSETTO:+0000
TZNAME:GMT
DTSTART:20231029T010000
END:STANDARD
END:VTIMEZONE
BEGIN:VEVENT
DTSTART;TZID=Europe/London:20220321T130000
DTEND;TZID=Europe/London:20220321T140000
DTSTAMP:20260421T091736
CREATED:20220125T170225Z
LAST-MODIFIED:20220303T161331Z
UID:6597-1647867600-1647871200@staging.esu.org
SUMMARY:Zoom Event: The ESU Friendly International Forum
DESCRIPTION:The Friendly International Forum is an informal forum aimed at exchanging views\, with an underlying aim of building future collaborations and initiatives. The host of the FIF will move between different ESUs internationally and each forum will be centred around a topic. \nThe topic of this second FIF meeting will be: ‘Owing to the decline in international travel due to COVID and concerns about the climate emergency\, what effect will this have on the ESU’s mission of fostering cross cultural exchange?’ \nWhy?  \nThe ESU has always been a conduit to share and exchange views\, but within the wider international family of the ESU there is more that can be done! It is our hope that FIF will bring the international members of the ESU closer together and lead us all in exciting directions as we listen and learn from one other. \nWhen?  \nDate: Monday\, 21 March 2022\, 13.00 GMT \nRegister in advance for this meeting: \nhttps://us06web.zoom.us/meeting/register/tZcvdOytrDsuGN0MX1gYKMhHtGAliHTrlDyz
URL:https://staging.esu.org/event/fif-2/
LOCATION:Online Meeting
CATEGORIES:ESU Social,ESU Young People
ATTACH;FMTTYPE=image/jpeg:https://staging.esu.org/wp-content/uploads/2019/01/OG_0065.jpg
END:VEVENT
END:VCALENDAR