BEGIN:VCALENDAR
VERSION:2.0
PRODID:-//ESU - ECPv6.15.17.1//NONSGML v1.0//EN
CALSCALE:GREGORIAN
METHOD:PUBLISH
X-WR-CALNAME:ESU
X-ORIGINAL-URL:https://staging.esu.org
X-WR-CALDESC:Events for ESU
REFRESH-INTERVAL;VALUE=DURATION:PT1H
X-Robots-Tag:noindex
X-PUBLISHED-TTL:PT1H
BEGIN:VTIMEZONE
TZID:Europe/London
BEGIN:DAYLIGHT
TZOFFSETFROM:+0000
TZOFFSETTO:+0100
TZNAME:BST
DTSTART:20220327T010000
END:DAYLIGHT
BEGIN:STANDARD
TZOFFSETFROM:+0100
TZOFFSETTO:+0000
TZNAME:GMT
DTSTART:20221030T010000
END:STANDARD
BEGIN:DAYLIGHT
TZOFFSETFROM:+0000
TZOFFSETTO:+0100
TZNAME:BST
DTSTART:20230326T010000
END:DAYLIGHT
BEGIN:STANDARD
TZOFFSETFROM:+0100
TZOFFSETTO:+0000
TZNAME:GMT
DTSTART:20231029T010000
END:STANDARD
BEGIN:DAYLIGHT
TZOFFSETFROM:+0000
TZOFFSETTO:+0100
TZNAME:BST
DTSTART:20240331T010000
END:DAYLIGHT
BEGIN:STANDARD
TZOFFSETFROM:+0100
TZOFFSETTO:+0000
TZNAME:GMT
DTSTART:20241027T010000
END:STANDARD
END:VTIMEZONE
BEGIN:VEVENT
DTSTART;TZID=Europe/London:20230714T190000
DTEND;TZID=Europe/London:20230714T220000
DTSTAMP:20260421T150034
CREATED:20230322T155203Z
LAST-MODIFIED:20230706T132703Z
UID:7974-1689361200-1689372000@staging.esu.org
SUMMARY:Oxfordshire Annual Dinner
DESCRIPTION:The Oxfordshire 2023 Dinner will be held 100 years after the first Oxford ESU Dinner was held at Oriel College in 1923. This year the college is undergoing building work and cannot accommodate us. However\, Linacre College has kindly offered to host us. Speaker to be confirmed. \nTo book contact Dr Jan Carter jan@paddockcottage.net or ring 01865 848528 or Tim Hallchurch tim@paddockcottage.net 01865 377099
URL:https://staging.esu.org/event/oxfordshire-annual-dinner/
LOCATION:Linacre College\, St Cross Road\, Oxford\, OX1 3JA\, United Kingdom
ATTACH;FMTTYPE=image/jpeg:https://staging.esu.org/wp-content/uploads/2023/07/Untitled-design-8.jpg
ORGANIZER;CN="Oxford Branch":MAILTO:jan@paddockcottage.net
END:VEVENT
END:VCALENDAR