BEGIN:VCALENDAR
VERSION:2.0
PRODID:-//ESU - ECPv6.15.17.1//NONSGML v1.0//EN
CALSCALE:GREGORIAN
METHOD:PUBLISH
X-ORIGINAL-URL:https://staging.esu.org
X-WR-CALDESC:Events for ESU
REFRESH-INTERVAL;VALUE=DURATION:PT1H
X-Robots-Tag:noindex
X-PUBLISHED-TTL:PT1H
BEGIN:VTIMEZONE
TZID:Europe/London
BEGIN:DAYLIGHT
TZOFFSETFROM:+0000
TZOFFSETTO:+0100
TZNAME:BST
DTSTART:20220327T010000
END:DAYLIGHT
BEGIN:STANDARD
TZOFFSETFROM:+0100
TZOFFSETTO:+0000
TZNAME:GMT
DTSTART:20221030T010000
END:STANDARD
BEGIN:DAYLIGHT
TZOFFSETFROM:+0000
TZOFFSETTO:+0100
TZNAME:BST
DTSTART:20230326T010000
END:DAYLIGHT
BEGIN:STANDARD
TZOFFSETFROM:+0100
TZOFFSETTO:+0000
TZNAME:GMT
DTSTART:20231029T010000
END:STANDARD
BEGIN:DAYLIGHT
TZOFFSETFROM:+0000
TZOFFSETTO:+0100
TZNAME:BST
DTSTART:20240331T010000
END:DAYLIGHT
BEGIN:STANDARD
TZOFFSETFROM:+0100
TZOFFSETTO:+0000
TZNAME:GMT
DTSTART:20241027T010000
END:STANDARD
END:VTIMEZONE
BEGIN:VEVENT
DTSTART;TZID=Europe/London:20230523T113000
DTEND;TZID=Europe/London:20230523T123000
DTSTAMP:20260421T152224
CREATED:20230322T160704Z
LAST-MODIFIED:20230322T161023Z
UID:7971-1684841400-1684845000@staging.esu.org
SUMMARY:Visit to the Kilns (CS Lewis house)
DESCRIPTION:The Kilns\, also known as CS Lewis House\, is the house in Risinghurst\, Oxford\, where the author wrote all of his Narnia books and other classics. The house itself was featured in the Narnia books and Lewis’s gardener at The Kilns\, Fred Paxford\, is said to have inspired the character of Puddlegium the Marshwiggle in The Silver Chair. \nThe Kilns was built in 1922 on the site of a former brickworks as bought by CS Lewis\, his brother Warren Lewis\, and Janie Moore. Maureen Dunbar\, Janie Moore’s daughter\, also lived there. CS Lewis wrote of the house: ‘I never hoped for the like’. Janie Moore was the mother of Lewis’s university friend Paddy Moore\, who had been killed in the First World War. \nThe house is in what is now called Lewis Close\, south of Kiln Lane. The Kilns is currently owned and operated by the CS Lewis Foundation\, which runs it as the Study Centre at the Kilns. \nThe CS Lewis Foundation is a not-for-profit and a registered charity in the U.K. www.cslewis.org \nThe optional lunch will be held at the Talk House\, Stanton St John. Please let us know if you wish to join us for lunch so that we can book a table. \nTo book contact Dr Jan Carter jan@paddockcottage.net or ring 01865 848528 or Tim Hallchurch tim@paddockcottage.net 01865 377099
URL:https://staging.esu.org/event/visit-to-the-kilns-cs-lewis-house/
LOCATION:CS Lewis House\, Kiln Lane\, Oxford\, England\, OX3 8JD\, United Kingdom
ATTACH;FMTTYPE=image/jpeg:https://staging.esu.org/wp-content/uploads/2023/03/Picture1.jpg
ORGANIZER;CN="Oxford Branch":MAILTO:jan@paddockcottage.net
END:VEVENT
END:VCALENDAR